Package: MiRaGE Version: 1.48.0 Command: /Library/Frameworks/R.framework/Resources/bin/R CMD check --install=check:MiRaGE.install-out.txt --library=/Library/Frameworks/R.framework/Resources/library --no-vignettes --timings MiRaGE_1.48.0.tar.gz StartedAt: 2025-02-05 02:04:53 -0500 (Wed, 05 Feb 2025) EndedAt: 2025-02-05 02:06:46 -0500 (Wed, 05 Feb 2025) EllapsedTime: 112.7 seconds RetCode: 0 Status: WARNINGS CheckDir: MiRaGE.Rcheck Warnings: 1