Package: MiRaGE Version: 1.48.0 Command: /home/biocbuild/bbs-3.20-bioc/R/bin/R CMD INSTALL MiRaGE StartedAt: 2025-02-03 15:25:11 -0500 (Mon, 03 Feb 2025) EndedAt: 2025-02-03 15:25:24 -0500 (Mon, 03 Feb 2025) EllapsedTime: 12.5 seconds RetCode: 0 Status: OK