Package: MiRaGE Version: 1.48.0 Command: F:\biocbuild\bbs-3.20-bioc\R\bin\R.exe CMD INSTALL MiRaGE StartedAt: 2025-02-03 15:57:47 -0500 (Mon, 03 Feb 2025) EndedAt: 2025-02-03 15:58:04 -0500 (Mon, 03 Feb 2025) EllapsedTime: 16.4 seconds RetCode: 0 Status: OK