Package: MiRaGE Version: 1.48.0 Command: /home/biocbuild/R/R/bin/R CMD build --keep-empty-dirs --no-resave-data MiRaGE StartedAt: 2025-02-04 01:00:22 -0000 (Tue, 04 Feb 2025) EndedAt: 2025-02-04 01:01:28 -0000 (Tue, 04 Feb 2025) EllapsedTime: 66.1 seconds RetCode: 0 Status: OK PackageFile: MiRaGE_1.48.0.tar.gz PackageFileSize: 1.301 MiB