Package: MicrobiomeProfiler Version: 1.12.0 Command: /Library/Frameworks/R.framework/Resources/bin/R CMD build --keep-empty-dirs --no-resave-data MicrobiomeProfiler StartedAt: 2025-02-04 03:23:44 -0500 (Tue, 04 Feb 2025) EndedAt: 2025-02-04 03:24:18 -0500 (Tue, 04 Feb 2025) EllapsedTime: 33.8 seconds RetCode: 0 Status: OK PackageFile: MicrobiomeProfiler_1.12.0.tar.gz PackageFileSize: 1.051 MiB