Package: MicrobiomeProfiler Version: 1.12.0 Command: /home/biocbuild/bbs-3.20-bioc/R/bin/R CMD INSTALL MicrobiomeProfiler StartedAt: 2025-02-03 15:56:13 -0500 (Mon, 03 Feb 2025) EndedAt: 2025-02-03 15:56:37 -0500 (Mon, 03 Feb 2025) EllapsedTime: 24.1 seconds RetCode: 0 Status: OK