Package: MicrobiomeProfiler Version: 1.12.0 Command: F:\biocbuild\bbs-3.20-bioc\R\bin\R.exe CMD check --no-multiarch --install=check:MicrobiomeProfiler.install-out.txt --library=F:\biocbuild\bbs-3.20-bioc\R\library --no-vignettes --timings MicrobiomeProfiler_1.12.0.tar.gz StartedAt: 2025-02-18 03:23:06 -0500 (Tue, 18 Feb 2025) EndedAt: 2025-02-18 03:26:10 -0500 (Tue, 18 Feb 2025) EllapsedTime: 183.5 seconds RetCode: 0 Status: OK CheckDir: MicrobiomeProfiler.Rcheck Warnings: 0