Package: MicrobiotaProcess Version: 1.18.0 Command: /Library/Frameworks/R.framework/Resources/bin/R CMD build --keep-empty-dirs --no-resave-data MicrobiotaProcess StartedAt: 2025-01-31 03:18:36 -0500 (Fri, 31 Jan 2025) EndedAt: 2025-01-31 03:21:28 -0500 (Fri, 31 Jan 2025) EllapsedTime: 171.8 seconds RetCode: 0 Status: OK PackageFile: MicrobiotaProcess_1.18.0.tar.gz PackageFileSize: 4.982 MiB