Package: MicrobiotaProcess Version: 1.18.0 Command: /Library/Frameworks/R.framework/Resources/bin/R CMD check --install=check:MicrobiotaProcess.install-out.txt --library=/Library/Frameworks/R.framework/Resources/library --no-vignettes --timings MicrobiotaProcess_1.18.0.tar.gz StartedAt: 2025-02-01 01:06:55 -0500 (Sat, 01 Feb 2025) EndedAt: 2025-02-01 01:12:41 -0500 (Sat, 01 Feb 2025) EllapsedTime: 346.0 seconds RetCode: 0 Status: OK CheckDir: MicrobiotaProcess.Rcheck Warnings: 0