Package: MicrobiotaProcess Version: 1.18.0 Command: /home/biocbuild/bbs-3.20-bioc/R/bin/R CMD INSTALL MicrobiotaProcess StartedAt: 2025-01-30 15:46:36 -0500 (Thu, 30 Jan 2025) EndedAt: 2025-01-30 15:47:37 -0500 (Thu, 30 Jan 2025) EllapsedTime: 61.1 seconds RetCode: 0 Status: OK