Package: MicrobiotaProcess Version: 1.18.0 Command: rm -rf MicrobiotaProcess.buildbin-libdir && mkdir MicrobiotaProcess.buildbin-libdir && F:\biocbuild\bbs-3.20-bioc\R\bin\R.exe CMD INSTALL --build --library=MicrobiotaProcess.buildbin-libdir MicrobiotaProcess_1.18.0.tar.gz StartedAt: 2025-02-04 08:55:31 -0500 (Tue, 04 Feb 2025) EndedAt: 2025-02-04 09:05:26 -0500 (Tue, 04 Feb 2025) EllapsedTime: 594.8 seconds RetCode: 0 Status: OK PackageFile: MicrobiotaProcess_1.18.0.zip PackageFileSize: 4.385 MiB