Package: MicrobiotaProcess Version: 1.18.0 Command: F:\biocbuild\bbs-3.20-bioc\R\bin\R.exe CMD INSTALL MicrobiotaProcess StartedAt: 2025-01-30 16:33:36 -0500 (Thu, 30 Jan 2025) EndedAt: 2025-01-30 16:40:11 -0500 (Thu, 30 Jan 2025) EllapsedTime: 395.6 seconds RetCode: 0 Status: OK