Package: MineICA Version: 1.46.0 Command: /Library/Frameworks/R.framework/Resources/bin/R CMD build --keep-empty-dirs --no-resave-data MineICA StartedAt: 2024-11-19 17:37:26 -0500 (Tue, 19 Nov 2024) EndedAt: 2024-11-19 17:39:30 -0500 (Tue, 19 Nov 2024) EllapsedTime: 123.9 seconds RetCode: 0 Status: OK PackageFile: MineICA_1.46.0.tar.gz PackageFileSize: 1.433 MiB