Package: MineICA Version: 1.46.0 Command: /Library/Frameworks/R.framework/Resources/bin/R CMD INSTALL MineICA StartedAt: 2025-02-03 16:47:56 -0500 (Mon, 03 Feb 2025) EndedAt: 2025-02-03 16:49:18 -0500 (Mon, 03 Feb 2025) EllapsedTime: 81.7 seconds RetCode: 0 Status: OK