Package: MineICA Version: 1.46.0 Command: rm -rf MineICA.buildbin-libdir && mkdir MineICA.buildbin-libdir && F:\biocbuild\bbs-3.20-bioc\R\bin\R.exe CMD INSTALL --build --library=MineICA.buildbin-libdir MineICA_1.46.0.tar.gz StartedAt: 2025-02-04 08:55:55 -0500 (Tue, 04 Feb 2025) EndedAt: 2025-02-04 08:58:01 -0500 (Tue, 04 Feb 2025) EllapsedTime: 126.6 seconds RetCode: 0 Status: OK PackageFile: MineICA_1.46.0.zip PackageFileSize: 2.191 MiB