Package: MineICA Version: 1.46.0 Command: chmod a+r MineICA -R && F:\biocbuild\bbs-3.20-bioc\R\bin\R.exe CMD build --keep-empty-dirs --no-resave-data MineICA StartedAt: 2025-02-03 20:22:57 -0500 (Mon, 03 Feb 2025) EndedAt: 2025-02-03 20:25:52 -0500 (Mon, 03 Feb 2025) EllapsedTime: 174.9 seconds RetCode: 0 Status: OK PackageFile: MineICA_1.46.0.tar.gz PackageFileSize: 1.438 MiB