Package: MineICA Version: 1.46.0 Command: /home/biocbuild/R/R/bin/R CMD check --install=check:MineICA.install-out.txt --library=/home/biocbuild/R/R/site-library --no-vignettes --timings MineICA_1.46.0.tar.gz StartedAt: 2025-02-04 08:49:07 -0000 (Tue, 04 Feb 2025) EndedAt: 2025-02-04 08:54:20 -0000 (Tue, 04 Feb 2025) EllapsedTime: 312.4 seconds RetCode: 0 Status: WARNINGS CheckDir: MineICA.Rcheck Warnings: 3