Package: MineICA Version: 1.46.0 Command: /home/biocbuild/R/R/bin/R CMD INSTALL MineICA StartedAt: 2025-02-03 21:22:39 -0000 (Mon, 03 Feb 2025) EndedAt: 2025-02-03 21:23:28 -0000 (Mon, 03 Feb 2025) EllapsedTime: 48.5 seconds RetCode: 0 Status: OK