Package: ModCon
Version: 1.14.0
Command: /Library/Frameworks/R.framework/Resources/bin/R CMD INSTALL ModCon
StartedAt: 2024-11-08 15:14:41 -0500 (Fri, 08 Nov 2024)
EndedAt: 2024-11-08 15:14:44 -0500 (Fri, 08 Nov 2024)
EllapsedTime: 2.9 seconds
RetCode: 0
Status: OK