Package: ModCon Version: 1.14.0 Command: /home/biocbuild/bbs-3.20-bioc/R/bin/R CMD check --install=check:ModCon.install-out.txt --library=/home/biocbuild/bbs-3.20-bioc/R/site-library --timings ModCon_1.14.0.tar.gz StartedAt: 2025-02-04 00:17:02 -0500 (Tue, 04 Feb 2025) EndedAt: 2025-02-04 00:22:37 -0500 (Tue, 04 Feb 2025) EllapsedTime: 335.3 seconds RetCode: 0 Status: OK CheckDir: ModCon.Rcheck Warnings: 0