Package: ModCon Version: 1.14.0 Command: F:\biocbuild\bbs-3.20-bioc\R\bin\R.exe CMD INSTALL ModCon StartedAt: 2025-02-03 15:39:17 -0500 (Mon, 03 Feb 2025) EndedAt: 2025-02-03 15:39:49 -0500 (Mon, 03 Feb 2025) EllapsedTime: 31.6 seconds RetCode: 0 Status: OK