Package: ModCon
Version: 1.14.0
Command: /home/biocbuild/bbs-3.20-bioc/R/bin/R CMD build --keep-empty-dirs --no-resave-data ModCon
StartedAt: 2024-11-19 20:10:23 -0500 (Tue, 19 Nov 2024)
EndedAt: 2024-11-19 20:12:11 -0500 (Tue, 19 Nov 2024)
EllapsedTime: 108.2 seconds
RetCode: 0
Status: OK
PackageFile: ModCon_1.14.0.tar.gz
PackageFileSize: 1.912 <A href="http://en.wikipedia.org/wiki/MiB" target="_blank">MiB</A>