Package: Modstrings
Version: 1.21.0
Command: C:\Users\biocbuild\bbs-3.20-bioc\R\bin\R.exe CMD INSTALL Modstrings
StartedAt: 2024-07-15 15:28:30 -0400 (Mon, 15 Jul 2024)
EndedAt: 2024-07-15 15:28:59 -0400 (Mon, 15 Jul 2024)
EllapsedTime: 29.0 seconds
RetCode: 0
Status: OK