Package: MoleculeExperiment Version: 1.6.0 Command: /Library/Frameworks/R.framework/Resources/bin/R CMD build --keep-empty-dirs --no-resave-data MoleculeExperiment StartedAt: 2025-02-04 03:50:36 -0500 (Tue, 04 Feb 2025) EndedAt: 2025-02-04 03:52:49 -0500 (Tue, 04 Feb 2025) EllapsedTime: 133.3 seconds RetCode: 0 Status: OK PackageFile: MoleculeExperiment_1.6.0.tar.gz PackageFileSize: 15.83 MiB