Package: MoleculeExperiment Version: 1.6.0 Command: /home/biocbuild/R/R/bin/R CMD check --install=check:MoleculeExperiment.install-out.txt --library=/home/biocbuild/R/R/site-library --no-vignettes --timings MoleculeExperiment_1.6.0.tar.gz StartedAt: 2024-11-20 10:02:53 -0000 (Wed, 20 Nov 2024) EndedAt: 2024-11-20 10:10:51 -0000 (Wed, 20 Nov 2024) EllapsedTime: 477.8 seconds RetCode: 0 Status: OK CheckDir: MoleculeExperiment.Rcheck Warnings: 0