Package: MoleculeExperiment Version: 1.6.0 Command: /Library/Frameworks/R.framework/Resources/bin/R CMD check --install=check:MoleculeExperiment.install-out.txt --library=/Library/Frameworks/R.framework/Resources/library --no-vignettes --timings MoleculeExperiment_1.6.0.tar.gz StartedAt: 2025-01-31 06:43:18 -0500 (Fri, 31 Jan 2025) EndedAt: 2025-01-31 06:56:37 -0500 (Fri, 31 Jan 2025) EllapsedTime: 798.6 seconds RetCode: 0 Status: OK CheckDir: MoleculeExperiment.Rcheck Warnings: 0