Package: MoleculeExperiment Version: 1.6.0 Command: /Library/Frameworks/R.framework/Resources/bin/R CMD INSTALL MoleculeExperiment StartedAt: 2025-02-03 16:50:12 -0500 (Mon, 03 Feb 2025) EndedAt: 2025-02-03 16:51:48 -0500 (Mon, 03 Feb 2025) EllapsedTime: 95.4 seconds RetCode: 0 Status: OK