Package: MoleculeExperiment Version: 1.6.0 Command: /home/biocbuild/bbs-3.20-bioc/R/bin/R CMD build --keep-empty-dirs --no-resave-data --md5 MoleculeExperiment StartedAt: 2025-01-30 18:08:47 -0500 (Thu, 30 Jan 2025) EndedAt: 2025-01-30 18:10:44 -0500 (Thu, 30 Jan 2025) EllapsedTime: 116.2 seconds RetCode: 0 Status: OK PackageFile: MoleculeExperiment_1.6.0.tar.gz PackageFileSize: 15.58 MiB