Package: MoleculeExperiment Version: 1.6.0 Command: rm -rf MoleculeExperiment.buildbin-libdir && mkdir MoleculeExperiment.buildbin-libdir && F:\biocbuild\bbs-3.20-bioc\R\bin\R.exe CMD INSTALL --build --library=MoleculeExperiment.buildbin-libdir MoleculeExperiment_1.6.0.tar.gz StartedAt: 2025-01-31 09:05:13 -0500 (Fri, 31 Jan 2025) EndedAt: 2025-01-31 09:07:25 -0500 (Fri, 31 Jan 2025) EllapsedTime: 131.5 seconds RetCode: 0 Status: OK PackageFile: MoleculeExperiment_1.6.0.zip PackageFileSize: 9.538 MiB