Package: MoleculeExperiment Version: 1.6.0 Command: chmod a+r MoleculeExperiment -R && F:\biocbuild\bbs-3.20-bioc\R\bin\R.exe CMD build --keep-empty-dirs --no-resave-data MoleculeExperiment StartedAt: 2025-01-30 20:14:59 -0500 (Thu, 30 Jan 2025) EndedAt: 2025-01-30 20:21:15 -0500 (Thu, 30 Jan 2025) EllapsedTime: 375.5 seconds RetCode: 0 Status: OK PackageFile: MoleculeExperiment_1.6.0.tar.gz PackageFileSize: 12.82 MiB