Package: MoleculeExperiment Version: 1.6.0 Command: F:\biocbuild\bbs-3.20-bioc\R\bin\R.exe CMD INSTALL MoleculeExperiment StartedAt: 2025-01-30 16:57:44 -0500 (Thu, 30 Jan 2025) EndedAt: 2025-01-30 17:00:18 -0500 (Thu, 30 Jan 2025) EllapsedTime: 154.2 seconds RetCode: 0 Status: OK