Package: Moonlight2R
Version: 1.3.0
Command: C:\Users\biocbuild\bbs-3.20-bioc\R\bin\R.exe CMD check --no-multiarch --install=check:Moonlight2R.install-out.txt --library=C:\Users\biocbuild\bbs-3.20-bioc\R\library --no-vignettes --timings Moonlight2R_1.3.0.tar.gz
StartedAt: 2024-07-16 01:56:24 -0400 (Tue, 16 Jul 2024)
EndedAt: 2024-07-16 02:06:36 -0400 (Tue, 16 Jul 2024)
EllapsedTime: 612.8 seconds
RetCode: 0
Status: OK
CheckDir: Moonlight2R.Rcheck
Warnings: 0