Package: MoonlightR Version: 1.32.0 Command: rm -rf MoonlightR.buildbin-libdir && mkdir MoonlightR.buildbin-libdir && /Users/biocbuild/BBS/utils/build-universal.sh MoonlightR_1.32.0.tar.gz /Library/Frameworks/R.framework/Resources/bin/R MoonlightR.buildbin-libdir StartedAt: 2025-02-04 13:29:45 -0500 (Tue, 04 Feb 2025) EndedAt: 2025-02-04 13:32:51 -0500 (Tue, 04 Feb 2025) EllapsedTime: 185.9 seconds RetCode: 0 Status: OK PackageFile: MoonlightR_1.32.0.tgz PackageFileSize: 10.04 MiB