Package: MoonlightR Version: 1.32.0 Command: /home/biocbuild/bbs-3.20-bioc/R/bin/R CMD INSTALL MoonlightR StartedAt: 2025-02-03 15:53:11 -0500 (Mon, 03 Feb 2025) EndedAt: 2025-02-03 15:54:05 -0500 (Mon, 03 Feb 2025) EllapsedTime: 54.1 seconds RetCode: 0 Status: OK