Package: MoonlightR Version: 1.32.0 Command: chmod a+r MoonlightR -R && F:\biocbuild\bbs-3.20-bioc\R\bin\R.exe CMD build --keep-empty-dirs --no-resave-data MoonlightR StartedAt: 2025-02-03 20:29:48 -0500 (Mon, 03 Feb 2025) EndedAt: 2025-02-03 20:32:57 -0500 (Mon, 03 Feb 2025) EllapsedTime: 188.8 seconds RetCode: 0 Status: OK PackageFile: MoonlightR_1.32.0.tar.gz PackageFileSize: 14.3 MiB