Package: Motif2Site Version: 1.10.0 Command: /Library/Frameworks/R.framework/Resources/bin/R CMD build --keep-empty-dirs --no-resave-data Motif2Site StartedAt: 2025-02-04 03:57:55 -0500 (Tue, 04 Feb 2025) EndedAt: 2025-02-04 04:02:41 -0500 (Tue, 04 Feb 2025) EllapsedTime: 286.1 seconds RetCode: 0 Status: OK PackageFile: Motif2Site_1.10.0.tar.gz PackageFileSize: 1.414 MiB