Package: Motif2Site Version: 1.10.0 Command: /home/biocbuild/bbs-3.20-bioc/R/bin/R CMD build --keep-empty-dirs --no-resave-data --md5 Motif2Site StartedAt: 2025-02-03 18:20:09 -0500 (Mon, 03 Feb 2025) EndedAt: 2025-02-03 18:23:40 -0500 (Mon, 03 Feb 2025) EllapsedTime: 211.2 seconds RetCode: 0 Status: OK PackageFile: Motif2Site_1.10.0.tar.gz PackageFileSize: 1.42 MiB