Package: Motif2Site Version: 1.10.0 Command: /home/biocbuild/bbs-3.20-bioc/R/bin/R CMD check --install=check:Motif2Site.install-out.txt --library=/home/biocbuild/bbs-3.20-bioc/R/site-library --timings Motif2Site_1.10.0.tar.gz StartedAt: 2025-02-04 00:21:00 -0500 (Tue, 04 Feb 2025) EndedAt: 2025-02-04 00:34:20 -0500 (Tue, 04 Feb 2025) EllapsedTime: 799.8 seconds RetCode: 0 Status: OK CheckDir: Motif2Site.Rcheck Warnings: 0