Package: Motif2Site Version: 1.10.0 Command: chmod a+r Motif2Site -R && F:\biocbuild\bbs-3.20-bioc\R\bin\R.exe CMD build --keep-empty-dirs --no-resave-data Motif2Site StartedAt: 2025-02-03 20:32:09 -0500 (Mon, 03 Feb 2025) EndedAt: 2025-02-03 20:36:33 -0500 (Mon, 03 Feb 2025) EllapsedTime: 264.3 seconds RetCode: 0 Status: OK PackageFile: Motif2Site_1.10.0.tar.gz PackageFileSize: 1.336 MiB