Package: Motif2Site Version: 1.10.0 Command: /home/biocbuild/R/R/bin/R CMD INSTALL Motif2Site StartedAt: 2025-02-03 21:05:11 -0000 (Mon, 03 Feb 2025) EndedAt: 2025-02-03 21:05:16 -0000 (Mon, 03 Feb 2025) EllapsedTime: 4.7 seconds RetCode: 0 Status: OK