Package: MotifDb Version: 1.48.0 Command: rm -rf MotifDb.buildbin-libdir && mkdir MotifDb.buildbin-libdir && /Users/biocbuild/BBS/utils/build-universal.sh MotifDb_1.48.0.tar.gz /Library/Frameworks/R.framework/Resources/bin/R MotifDb.buildbin-libdir StartedAt: 2025-02-01 15:50:35 -0500 (Sat, 01 Feb 2025) EndedAt: 2025-02-01 15:51:28 -0500 (Sat, 01 Feb 2025) EllapsedTime: 52.1 seconds RetCode: 0 Status: OK PackageFile: MotifDb_1.48.0.tgz PackageFileSize: 3.601 MiB