Package: MotifDb Version: 1.48.0 Command: /Library/Frameworks/R.framework/Resources/bin/R CMD build --keep-empty-dirs --no-resave-data MotifDb StartedAt: 2025-01-31 03:55:31 -0500 (Fri, 31 Jan 2025) EndedAt: 2025-01-31 03:56:40 -0500 (Fri, 31 Jan 2025) EllapsedTime: 68.7 seconds RetCode: 0 Status: OK PackageFile: MotifDb_1.48.0.tar.gz PackageFileSize: 3.295 MiB