Package: MotifDb Version: 1.48.0 Command: /Library/Frameworks/R.framework/Resources/bin/R CMD check --install=check:MotifDb.install-out.txt --library=/Library/Frameworks/R.framework/Resources/library --no-vignettes --timings MotifDb_1.48.0.tar.gz StartedAt: 2025-02-01 02:03:11 -0500 (Sat, 01 Feb 2025) EndedAt: 2025-02-01 02:09:16 -0500 (Sat, 01 Feb 2025) EllapsedTime: 364.4 seconds RetCode: 0 Status: WARNINGS CheckDir: MotifDb.Rcheck Warnings: 2