Package: MotifDb Version: 1.48.0 Command: /Library/Frameworks/R.framework/Resources/bin/R CMD INSTALL MotifDb StartedAt: 2025-01-30 16:00:53 -0500 (Thu, 30 Jan 2025) EndedAt: 2025-01-30 16:01:41 -0500 (Thu, 30 Jan 2025) EllapsedTime: 47.4 seconds RetCode: 0 Status: OK