Package: MotifDb Version: 1.48.0 Command: /Library/Frameworks/R.framework/Resources/bin/R CMD build --keep-empty-dirs --no-resave-data MotifDb StartedAt: 2025-01-30 20:59:37 -0500 (Thu, 30 Jan 2025) EndedAt: 2025-01-30 21:02:31 -0500 (Thu, 30 Jan 2025) EllapsedTime: 173.9 seconds RetCode: 0 Status: OK PackageFile: MotifDb_1.48.0.tar.gz PackageFileSize: 3.295 MiB