Package: MotifDb Version: 1.48.0 Command: /Library/Frameworks/R.framework/Resources/bin/R CMD check --install=check:MotifDb.install-out.txt --library=/Library/Frameworks/R.framework/Resources/library --no-vignettes --timings MotifDb_1.48.0.tar.gz StartedAt: 2025-01-31 06:48:11 -0500 (Fri, 31 Jan 2025) EndedAt: 2025-01-31 06:59:51 -0500 (Fri, 31 Jan 2025) EllapsedTime: 699.1 seconds RetCode: 0 Status: WARNINGS CheckDir: MotifDb.Rcheck Warnings: 2