Package: MotifDb Version: 1.48.0 Command: /Library/Frameworks/R.framework/Resources/bin/R CMD INSTALL MotifDb StartedAt: 2025-01-30 15:36:24 -0500 (Thu, 30 Jan 2025) EndedAt: 2025-01-30 15:37:57 -0500 (Thu, 30 Jan 2025) EllapsedTime: 92.9 seconds RetCode: 0 Status: OK