Package: MotifDb Version: 1.48.0 Command: /home/biocbuild/bbs-3.20-bioc/R/bin/R CMD build --keep-empty-dirs --no-resave-data --md5 MotifDb StartedAt: 2025-01-30 18:11:02 -0500 (Thu, 30 Jan 2025) EndedAt: 2025-01-30 18:11:58 -0500 (Thu, 30 Jan 2025) EllapsedTime: 56.0 seconds RetCode: 0 Status: OK PackageFile: MotifDb_1.48.0.tar.gz PackageFileSize: 3.238 MiB