Package: MotifDb Version: 1.48.0 Command: /home/biocbuild/bbs-3.20-bioc/R/bin/R CMD INSTALL MotifDb StartedAt: 2025-01-30 15:20:51 -0500 (Thu, 30 Jan 2025) EndedAt: 2025-01-30 15:21:31 -0500 (Thu, 30 Jan 2025) EllapsedTime: 40.0 seconds RetCode: 0 Status: OK