Package: MotifDb Version: 1.48.0 Command: F:\biocbuild\bbs-3.20-bioc\R\bin\R.exe CMD check --no-multiarch --install=check:MotifDb.install-out.txt --library=F:\biocbuild\bbs-3.20-bioc\R\library --no-vignettes --timings MotifDb_1.48.0.tar.gz StartedAt: 2025-01-31 04:09:48 -0500 (Fri, 31 Jan 2025) EndedAt: 2025-01-31 04:16:06 -0500 (Fri, 31 Jan 2025) EllapsedTime: 377.8 seconds RetCode: 0 Status: WARNINGS CheckDir: MotifDb.Rcheck Warnings: 2